Workbook
Name Print_Bottom_Titles: 白马!$1:$3

Sheet 汇总表
A1: 附表1：
A2: 2026年溧水区夏季秸秆机械化还田情况汇总表
A4: 序号 | B4: 镇街 | C4: 申报作业面积 | D4: 核减面积 | E4: 核减占比 | F4: 核定作业面积 | G4: 现场核查 | H4: 现场占比 | I4: 是否提供了身份证明
A5: 1 | B5: 晶桥 | C5: =晶桥!E59 -> 20752.51 | D5: =晶桥!F59 -> 1777.1 | E5: =D5/C5 -> 0.0856 | F5: =晶桥!G59 -> 18975.41 | G5: =晶桥!H59 -> 4802.84 | H5: =G5/C5 -> 0.2314 | I5: 无
A6: 2 | B6: 柘塘 | C6: =柘塘!E105 -> 25206.79 | D6: =柘塘!F105 -> 1106.08 | E6: =D6/C6 -> 0.0439 | F6: =柘塘!G105 -> 24100.71 | G6: =柘塘!H105 -> 5512.35 | H6: =G6/C6 -> 0.2187 | I6: 无
A7: 3 | B7: 洪蓝 | C7: =洪蓝!E49 -> 12452.68 | D7: =洪蓝!F49 -> 619.49 | E7: =D7/C7 -> 0.0497 | F7: =洪蓝!G49 -> 11833.19 | G7: =洪蓝!H49 -> 3113.47 | H7: =G7/C7 -> 0.25 | I7: 是
A8: 4 | B8: 白马 | C8: =白马!E91 -> 22583.46 | D8: =白马!F91 -> 635.3 | E8: =D8/C8 -> 0.0281 | F8: =白马!G91 -> 21948.16 | G8: =白马!H91 -> 22508.34 | H8: =G8/C8 -> 0.9967 | I8: 是
A9: 5 | B9: 和凤 | C9: =和凤!E54 -> 27106.55 | D9: =和凤!F54 -> 288.84 | E9: =D9/C9 -> 0.0107 | F9: =和凤!G54 -> 26817.71 | G9: =和凤!H54 -> 7776.9 | H9: =G9/C9 -> 0.2869 | I9: 是
A10: 6 | B10: 永阳 | C10: =永阳!E135 -> 14584.14 | D10: =永阳!F135 -> 1263.42 | E10: =D10/C10 -> 0.0866 | F10: =永阳!G135 -> 13320.72 | G10: =永阳!H135 -> 4207.5 | H10: =G10/C10 -> 0.2885 | I10: 无
A11: 7 | B11: 石湫 | C11: =石湫!E143 -> 30072.56 | D11: =石湫!F143 -> 821.54 | E11: =D11/C11 -> 0.0273 | F11: =石湫!G143 -> 29251.02 | G11: =石湫!H143 -> 4801.03 | H11: =G11/C11 -> 0.1596 | I11: 无
A12: 8 | B12: 东屏 | C12: =东屏!E65 -> 23665.18 | D12: =东屏!F65 -> 3864.83 | E12: =D12/C12 -> 0.1633 | F12: =东屏!G65 -> 19800.35 | G12: =东屏!H65 -> 23345.27 | H12: =G12/C12 -> 0.9865 | I12: 无
A13: 合 计 | C13: =SUM(C5:C12) -> 176423.87 | D13: =SUM(D5:D12) -> 10376.6 | E13: =D13/C13 -> 0.0588 | F13: =SUM(F5:F12) -> 166047.27 | G13: =SUM(G5:G12) -> 76067.7 | H13: =G13/C13 -> 0.4312

Sheet 晶桥
A1: 附表2-1：
A2: 2026年溧水区晶桥镇夏季秸秆机械化还田作业面积公示表
A3: 序号 | B3: 实际种植户名称 | C3: 身份证号码/统一社会信用代码 | D3: 作业地点（村、组） | E3: 申报作业面积(亩） | F3: 核减面积 | G3: 认定作业面积(亩） | H3: 现场核查
A4: 1 | B4: 尤继贵 | C4: 320124********3011 | D4: 枫香岭村 | E4: 1608 | F4: 518 | G4: =E4-F4 -> 1090 | H4: 622.68
A5: 2 | B5: 邰秀良 | C5: 320124********3014 | D5: 仙坛村张千户 | E5: 50 | F5: 0 | G5: =E5-F5 -> 50
A6: 3 | B6: 杨仁茂 | C6: 320124********3030 | D6: 仙坛村旋峰山 | E6: 35 | F6: 0 | G6: =E6-F6 -> 35
A7: 4 | B7: 季新春 | C7: 320124********3050 | D7: 杭村吴家 | E7: 64.5 | F7: 0 | G7: =E7-F7 -> 64.5
A8: 5 | B8: 史来娣 | C8: 320423********4867 | D8: 孔家、杭村、陈里杭村 | E8: 861 | F8: 0 | G8: =E8-F8 -> 861
A9: 6 | B9: 夏玉水 | C9: 320124********3014 | D9: 仙坛旋峰山 | E9: 80 | F9: 0 | G9: =E9-F9 -> 80
A10: 7 | B10: 薛福林 | C10: 320124********3036 | D10: 仙坛张千户 | E10: 30 | F10: 0 | G10: =E10-F10 -> 30
A11: 8 | B11: 袁光荣 | C11: 320124********3017 | D11: 岗下村 | E11: 240 | F11: 6 | G11: =E11-F11 -> 234
A12: 9 | B12: 赵玉铭 | C12: 320124********3016 | D12: 云鹤山 | E12: 400 | F12: 60 | G12: =E12-F12 -> 340
A13: 10 | B13: 陈文祥 | C13: 340521********6819 | D13: 云鹤山村 | E13: 500 | F13: 0 | G13: =E13-F13 -> 500
A14: 11 | B14: 芮志忠 | C14: 320124********3015 | D14: 仙坛 | E14: 110 | F14: 0 | G14: =E14-F14 -> 110
A15: 12 | B15: 杨双全 | C15: 320124********3014 | D15: 仙坛村 | E15: 412 | F15: 0 | G15: =E15-F15 -> 412
A16: 13 | B16: 汤世明 | C16: 320124********3215 | D16: 枫香岭 | E16: 120 | F16: 0 | G16: =E16-F16 -> 120
A17: 14 | B17: 魏小青 | C17: 320124********3017 | D17: 仙坛魏家 | E17: 300 | F17: 0 | G17: =E17-F17 -> 300
A18: 15 | B18: 南京市溧水区鹤翔农业专业合作社 | C18: 93320117MA25EJ492L | D18: 杭村 | E18: 780 | F18: 0 | G18: =E18-F18 -> 780 | H18: =91.36+435.18+77.36+154.69 -> 758.59
A19: 16 | B19: 徐姜雄 | C19: 320124********2818 | D19: 水晶村、笪村 | E19: 105.63 | F19: 0 | G19: =E19-F19 -> 105.63
A20: 17 | B20: 周锡宝 | C20: 320124********301X | D20: 邰村荷塘村 | E20: 130 | F20: 12 | G20: =E20-F20 -> 118
A21: 18 | B21: 陈二保 | C21: 340521********6819 | D21: 笪村 | E21: 233.23 | F21: 0 | G21: =E21-F21 -> 233.23
A22: 19 | B22: 曹长友 | C22: 320124********2814 | D22: 水晶村笪村 | E22: 360 | F22: 13.2 | G22: =E22-F22 -> 346.8
A23: 20 | B23: 夏建国 | C23: 320124********2831 | D23: 张村 | E23: 320 | F23: 0 | G23: =E23-F23 -> 320
A24: 21 | B24: 杨荣 | C24: 321123********4935 | D24: 笪村孙家刘家山经家山 | E24: 385 | F24: 0 | G24: =E24-F24 -> 385
A25: 22 | B25: 先太平 | C25: 340521********4617 | D25: 笪村 | E25: 120 | F25: 0 | G25: =E25-F25 -> 120
A26: 23 | B26: 南京市溧水区任国兴家庭农场 | C26: 92320117MA1Y84HTXD | D26: 邰村荷塘村 | E26: 405 | F26: 45 | G26: =E26-F26 -> 360
A27: 24 | B27: 徒成祥 | C27: 320124********3017 | D27: 邰村 | E27: 124 | F27: 2 | G27: =E27-F27 -> 122
A28: 25 | B28: 任雪燕 | C28: 320124********262X | D28: 荷塘 | E28: 657 | F28: 7 | G28: =E28-F28 -> 650
A29: 26 | B29: 任国兴 | C29: 320124********2618 | D29: 仙坛张千户 | E29: 114 | F29: 0 | G29: =E29-F29 -> 114
A30: 27 | B30: 祖广文 | C30: 321324********2611 | D30: 邰村下堡 | E30: 285 | F30: 91 | G30: =E30-F30 -> 194
... A40: 37 | B40: 蔡荣辉 | C40: 320124********3034 | D40: 芝山高芝塘村 | E40: 509.4 | F40: 10.4 | G40: =E40-F40 -> 499
A41: 38 | B41: 徐胜旺 | C41: 340521********6819 | D41: 甘戴 | E41: 1190.5 | F41: 136.5 | G41: =E41-F41 -> 1054 | H41: =235.8+259.91+246.49 -> 742.2
A42: 39 | B42: 孙长青 | C42: 320124********3053 | D42: 孔家 | E42: 29 | F42: 0 | G42: =E42-F42 -> 29
A43: 40 | B43: 南京市溧水区小丽保家庭农场 | C43: 320124********1219 | D43: 云鹤山 | E43: 545 | F43: 160 | G43: =E43-F43 -> 385
A44: 41 | B44: 章小丽保 | C44: 320124********1219 | D44: 杭村 | E44: 493 | F44: 150 | G44: =E44-F44 -> 343
A45: 42 | B45: 陈明明 | C45: 320124************ | D45: 枫香岭村 | E45: 1890 | F45: 30 | G45: =E45-F45 -> 1860 | H45: 644.94
A46: 43 | B46: 李和生 | C46: 320124************ | D46: 杭村 | E46: 119.5 | F46: 0 | G46: =E46-F46 -> 119.5
A47: 44 | B47: 王世福 | C47: 320124************ | D47: 杭村 | E47: 71 | F47: 0 | G47: =E47-F47 -> 71
A48: 45 | B48: 卞月亮 | C48: 320124************ | D48: 陶村西宋 | E48: 630 | F48: 0 | G48: =E48-F48 -> 630
A49: 46 | B49: 南京溧水大禹农机专业合作社 | C49: 933201173392745964 | D49: 陶村窑塘冲 | E49: 167 | F49: 0 | G49: =E49-F49 -> 167
A50: 47 | B50: 尚建国 | C50: 320124************ | D50: 陶村尚家 | E50: 128.84 | F50: 0 | G50: =E50-F50 -> 128.84
A51: 48 | B51: 刘小荣 | C51: 320124************ | D51: 陶村杨柳塘 | E51: 417.3 | F51: 0 | G51: =E51-F51 -> 417.3
A52: 49 | B52: 曹辉 | C52: 320124************ | D52: 陶村新桥 | E52: 40 | F52: 0 | G52: =E52-F52 -> 40
A53: 50 | B53: 巫年祥 | C53: 320124************ | D53: 陶村新桥二组 | E53: 40 | F53: 0 | G53: =E53-F53 -> 40
A54: 51 | B54: 南京石燕农地股份合作社 | C54: 93320117MA1XYMK79N | D54: 芝山村曹庄 | E54: 3050 | F54: 450 | G54: =E54-F54 -> 2600 | H54: =67.88+274.81+213.65+68.6+155.83+34.57+118.61+78.99+141.07+37.01+52.81+185.15+383.76+221.69 -> 2034.43
A55: 52 | B55: 陶荣 | C55: 32012419771213**** | D55: 芝山经巷村 | E55: 23.71 | F55: 0 | G55: =E55-F55 -> 23.71
A56: 53 | B56: 李长生 | C56: 34052119690518**** | D56: 下芝山村 | E56: 411 | F56: 20 | G56: =E56-F56 -> 391
A57: 54 | B57: 陈白根 | C57: 32012419730521**** | D57: 芝山店 | E57: 66.9 | F57: 0 | G57: =E57-F57 -> 66.9
A58: 55 | B58: 张家龙 | C58: 34052119760318**** | D58: 上芝山村 | E58: 180 | F58: 0 | G58: =E58-F58 -> 180
A59: 合计 | E59: =SUM(E4:E58) -> 20752.51 | F59: =SUM(F4:F58) -> 1777.1 | G59: =SUM(G4:G58) -> 18975.41 | H59: =SUM(H4:H58) -> 4802.84

Sheet 柘塘
A1: 附表2-2：
A2: 2026年溧水区柘塘街道夏季秸秆机械化还田作业面积公示表
A3: 序号 | B3: 实际种植户名称 | C3: 身份证号码/统一社会信用代码 | D3: 作业地点（村、组） | E3: 申报作业面积(亩） | F3: 核减面积 | G3: 认定作业面积(亩） | H3: 现场核查
A4: 1 | B4: 濮存葆 | C4: 320124********0813 | D4: 崇贤 | E4: 539.86 | F4: 0 | G4: =E4-F4 -> 539.86
A5: 2 | B5: 邵长江 | C5: 340521********331X | D5: 崇贤 | E5: 118.46 | F5: 0 | G5: =E5-F5 -> 118.46
A6: 3 | B6: 南京乌山生态农业科技有限公司（张红梅） | C6: 91320191MA20E43X7C | D6: 崇贤 | E6: 58.82 | F6: 0 | G6: =E6-F6 -> 58.82 | J6: 南京乌山生态农业科技有限公司（张红梅）
A7: 4 | B7: 范前云 | C7: 320124********1033 | D7: 崇贤 | E7: 2182 | F7: 0 | G7: =E7-F7 -> 2182 | J7: 章熙勇
A8: 5 | B8: 赵敬柱 | C8: 340321********6971 | D8: 崇贤 | E8: 253 | F8: 0 | G8: =E8-F8 -> 253 | J8: 南京市溧水区 李善文家庭农场（李善文）
A9: 6 | B9: 章熙勇 | D9: 崇贤 | E9: 269.31 | F9: 269.31 | G9: =E9-F9 -> 0
A10: 7 | B10: 王春 | C10: 342125********841X | D10: 崇贤 | E10: 100 | F10: 0 | G10: =E10-F10 -> 100
A11: 8 | B11: 章冬宝 | C11: 320124********1011 | D11: 崇贤 | E11: 173.62 | F11: 0 | G11: =E11-F11 -> 173.62
A12: 9 | B12: 张映华 | C12: 320124********1215 | D12: 康怡 | E12: 430 | F12: 0 | G12: =E12-F12 -> 430
A13: 10 | B13: 陈世平 | C13: 320124********1237 | D13: 康怡 | E13: 220 | F13: 2.34 | G13: =E13-F13 -> 217.66
A14: 11 | B14: 尹朝凤 | C14: 342125********3318 | D14: 康怡 | E14: 503.2 | F14: 0 | G14: =E14-F14 -> 503.2
A15: 12 | B15: 吴建明 | C15: 320124********123X | D15: 康怡 | E15: 251 | F15: 0 | G15: =E15-F15 -> 251
A16: 13 | B16: 章冬宝 | C16: 320124********1011 | D16: 康怡 | E16: 1478.6 | F16: 0 | G16: =E16-F16 -> 1478.6
A17: 14 | B17: 李桂淑 | C17: 513124********372X | D17: 康怡 | E17: 124.15 | F17: 0 | G17: =E17-F17 -> 124.15
A18: 15 | B18: 何元志 | C18: 320124********1219 | D18: 康怡 | E18: 892.5 | F18: 0 | G18: =E18-F18 -> 892.5
A19: 16 | B19: 马涛 | C19: 320124********1258 | D19: 康怡 | E19: 403.2 | F19: 0 | G19: =E19-F19 -> 403.2
A20: 17 | B20: 南京振东农业科技发展有限公司 | C20: 91320117MA1MHMRF6L | D20: 空港 | E20: 630 | F20: 0 | G20: =E20-F20 -> 630 | H20: =263+19.22+31.1+50.07+54.36+56.58 -> 474.33
A21: 18 | B21: 端礼军 | C21: 320124********1435 | D21: 空港 | E21: 70 | F21: 0 | G21: =E21-F21 -> 70
A22: 19 | B22: 吴志祥 | C22: 422324********5231 | D22: 空港 | E22: 145 | F22: 0 | G22: =E22-F22 -> 145
A23: 20 | B23: 刘德运 | C23: 320124********1412 | D23: 前进 | E23: 230 | F23: 0 | G23: =E23-F23 -> 230
A24: 21 | B24: 陈健 | C24: 320124********3239 | D24: 前进 | E24: 197 | F24: 0 | G24: =E24-F24 -> 197
A25: 22 | B25: 方绍军 | C25: 320124********1013 | D25: 秦淮 | E25: 100 | F25: 0 | G25: =E25-F25 -> 100
A26: 23 | B26: 章冬宝 | C26: 320124********1011 | D26: 秦淮 | E26: 200 | F26: 0 | G26: =E26-F26 -> 200
A27: 24 | B27: 端文 | C27: 320124********1831 | D27: 秦淮 | E27: 180 | F27: 0 | G27: =E27-F27 -> 180
A28: 25 | B28: 吴义凤 | C28: 320124********1019 | D28: 秦淮 | E28: 30 | F28: 0 | G28: =E28-F28 -> 30
A29: 26 | B29: 吕传文 | C29: 320124********1010 | D29: 秦淮 | E29: 130 | F29: 0 | G29: =E29-F29 -> 130
A30: 27 | B30: 李林 | C30: 320124********1014 | D30: 秦淮 | E30: 50 | F30: 0 | G30: =E30-F30 -> 50
A31: 28 | B31: 徐帮伟 | C31: 320124********1019 | D31: 秦淮 | E31: 650 | F31: 0 | G31: =E31-F31 -> 650
A32: 29 | B32: 王永友 | C32: 341224********333X | D32: 秦淮 | E32: 200 | F32: 0 | G32: =E32-F32 -> 200
... A46: 43 | B46: 马涛 | C46: 320124********1258 | D46: 乌山 | E46: 308 | F46: 0 | G46: =E46-F46 -> 308
A47: 44 | B47: 徐帮伟 | C47: 320124********1019 | D47: 乌山 | E47: 998.42 | F47: 184.43 | G47: =E47-F47 -> 813.99 | H47: =707.92+201.22 -> 909.14
A48: 45 | B48: 李红祖 | C48: 320124********1016 | D48: 乌山 | E48: 569.63 | F48: 0 | G48: =E48-F48 -> 569.63
A49: 46 | B49: 李太平 | C49: 320124********1038 | D49: 乌山 | E49: 82.75 | F49: 0 | G49: =E49-F49 -> 82.75
A50: 47 | B50: 李长兵 | C50: 320124********1034 | D50: 乌山 | E50: 156.29 | F50: 0 | G50: =E50-F50 -> 156.29
A51: 48 | B51: 端礼巧 | C51: 320124********1017 | D51: 乌山 | E51: 34.4 | F51: 0 | G51: =E51-F51 -> 34.4
A52: 49 | B52: 南京晶豪农业科技有限公司 | C52: 91320117MA1XXFBJ5B | D52: 柘塘 | E52: 5040 | F52: 650 | G52: =E52-F52 -> 4390 | H52: =199.49+1014.72+435.22+114.12+2365.33 -> 4128.88
A53: 50 | B53: 石守明（南京顺民粮油种植专业合作社） | C53: 93320117MA21R26Q50 | D53: 柘塘 | E53: 1230 | F53: 0 | G53: =E53-F53 -> 1230
A54: 51 | B54: 笪军（王祥洪） | C54: 320124********081X | D54: 柘塘 | E54: 153.19 | F54: 0 | G54: =E54-F54 -> 153.19
A55: 52 | B55: 李善文 | C55: 320124********1215 | D55: 沙河 | E55: 250 | F55: 0 | G55: =E55-F55 -> 250
A56: 53 | B56: 马涛 | C56: 320124********1258 | D56: 沙河 | E56: 554 | F56: 0 | G56: =E56-F56 -> 554
A57: 54 | B57: 马祥 | C57: 320124********1211 | D57: 沙河 | E57: 425.01 | F57: 0 | G57: =E57-F57 -> 425.01
A58: 55 | B58: 尹朝凤 | C58: 342125********3318 | D58: 沙河 | E58: 230 | F58: 0 | G58: =E58-F58 -> 230
A59: 56 | B59: 周兴春 | C59: 320124********0810 | D59: 沙河 | E59: 230 | F59: 0 | G59: =E59-F59 -> 230
A60: 57 | B60: 陈树金 | C60: 320124********1410 | D60: 沙河 | E60: 1.5 | F60: 0 | G60: =E60-F60 -> 1.5
A61: 58 | B61: 甘敬财 | C61: 320124********1455 | D61: 沙河 | E61: 2.3 | F61: 0 | G61: =E61-F61 -> 2.3
A62: 59 | B62: 甘敬顺 | C62: 320124********143X | D62: 沙河 | E62: 2.8 | F62: 0 | G62: =E62-F62 -> 2.8
A63: 60 | B63: 甘敬友 | C63: 320124********1417 | D63: 沙河 | E63: 1 | F63: 0 | G63: =E63-F63 -> 1
A64: 61 | B64: 甘巧生 | C64: 320124********1415 | D64: 沙河 | E64: 3 | F64: 0 | G64: =E64-F64 -> 3
... A104: 101 | B104: 朱云 | C104: 320124********1450 | D104: 沙河 | E104: 1.3 | F104: 0 | G104: =E104-F104 -> 1.3
B105: 合计 | E105: =SUM(E4:E104) -> 25206.79 | F105: =SUM(F4:F104) -> 1106.08 | G105: =SUM(G4:G104) -> 24100.71 | H105: =SUM(H4:H104) -> 5512.35

Sheet 洪蓝
A1: 附表2-3：
A2: 2026年溧水区洪蓝街道夏季秸秆机械化还田作业面积公示表
A3: 序号 | B3: 实际种植户名称 | C3: 身份证号码/统一社会信用代码 | D3: 作业地点（村、组） | E3: 申报作业面积(亩） | F3: 核减面积 | G3: 认定作业面积(亩） | H3: 现场核查
A4: 1 | B4: 南京恒丰生态农业有限公司 | C4: 91320117302389605G | D4: 上港社区后曹、上庄 | E4: 1260 | F4: 137 | G4: =E4-F4 -> 1123 | H4: 1260
A5: 2 | B5: 曹成清 | C5: 320124********2233 | D5: 姜家村东冲、郭塘等 | E5: 710 | F5: 0 | G5: =E5-F5 -> 710
A6: 3 | B6: 南京市溧水区果果家庭农场 | C6: 92320117MA1QWJU507 | D6: 青锋村何林坊、丁家甸 | E6: 742 | F6: 0 | G6: =E6-F6 -> 742
A7: 4 | B7: 杭久蓝 | C7: 320124********1621 | D7: 青锋村青圩 | E7: 70 | F7: 0 | G7: =E7-F7 -> 70
A8: 5 | B8: 韦方生 | C8: 340521********6831 | D8: 青锋村丁家甸 | E8: 166 | F8: 0 | G8: =E8-F8 -> 166
A9: 6 | B9: 丁佳春 | C9: 320124********2230 | D9: 青锋村泉庄 | E9: 130 | F9: 0.23 | G9: =E9-F9 -> 129.77
A10: 7 | B10: 姚国军 | C10: 330222********8631 | D10: 青锋村丁家甸 | E10: 103 | F10: 0 | G10: =E10-F10 -> 103
A11: 8 | B11: 郑常标 | C11: 410928********5110 | D11: 青锋村何林坊 | E11: 29 | F11: 0.39 | G11: =E11-F11 -> 28.61
A12: 9 | B12: 夏年保 | C12: 340521********6830 | D12: 青锋村圩盖头 | E12: 147 | F12: 0 | G12: =E12-F12 -> 147
A13: 10 | B13: 卞月亮 | C13: 320124********2219 | D13: 蒲塘社区汤村,傅家边社区吕家边 | E13: 90.5 | F13: 0 | G13: =E13-F13 -> 90.5
A14: 11 | B14: 南京溧水傅家边红艳草莓专业合作社 | C14: 93320117679049571L | D14: 傅家边社区谭村、杨家、汤家 | E14: 100.3 | F14: 23.7 | G14: =E14-F14 -> 76.6
A15: 12 | B15: 南京三里亭蓝亭水稻专业合作社 | C15: 93320117MA265G6Q8G | D15: 三里亭社区毛家、窑岗头 | E15: 2495 | F15: 0 | G15: =E15-F15 -> 2495 | H15: 1853.47
A16: 13 | B16: 南京市芮丰耘田生态农业有限公司 | C16: 91320117MAEEYYHM12 | D16: 塘西村塘西铺、周前、安山嘴 | E16: 1153.6 | F16: 301.62 | G16: =E16-F16 -> 851.98
A17: 14 | B17: 马鞍山文银谷物种植专业合作社 | C17: 93340506MADA30CX2F | D17: 塘西村塘东 | E17: 304 | F17: 0 | G17: =E17-F17 -> 304
A18: 15 | B18: 南京市溧水区园飞家庭农场 | C18: 92320117MA1QQC7R26 | D18: 塘西村黄家庄、古楼庵 | E18: 312 | F18: 0 | G18: =E18-F18 -> 312
A19: 16 | B19: 南京市溧水区生飞家庭农场 | C19: 92320117MA1QMG4R2T | D19: 塘西村刘山岗、石家甸 | E19: 117.51 | F19: 0 | G19: =E19-F19 -> 117.51
A20: 17 | B20: 黄杨春 | C20: 320124********1619 | D20: 青锋村圩盖头，塘西村旧坊甸、赵家庄 | E20: 408 | F20: 0 | G20: =E20-F20 -> 408
A21: 18 | B21: 赵宝娣 | C21: 320124********2240 | D21: 蒲塘社区下仓 | E21: 17 | F21: 0 | G21: =E21-F21 -> 17
A22: 19 | B22: 马腊生 | C22: 320124********2218 | D22: 蒲塘社区汤村 | E22: 95 | F22: 0 | G22: =E22-F22 -> 95
A23: 20 | B23: 赵孝平 | C23: 320124********2236 | D23: 蒲塘社区杨家庄、汤村、薛家、下仓；天生桥社区前赵、王子寿、田家 | E23: 2174.3 | F23: 26.77 | G23: =E23-F23 -> 2147.53
A24: 21 | B24: 王先富 | C24: 320124********2239 | D24: 蒲塘社区杨家庄 | E24: 16 | F24: 0 | G24: =E24-F24 -> 16
A25: 22 | B25: 马其军 | C25: 320124********221X | D25: 蒲塘社区杨家庄 | E25: 291.77 | F25: 0 | G25: =E25-F25 -> 291.77
A26: 23 | B26: 南京优加生态农业科技有限公司 | C26: 92320117MA27EKHW87 | D26: 天生桥社区张家、彭村 | E26: 127 | F26: 0 | G26: =E26-F26 -> 127
A27: 24 | B27: 陶傲生 | C27: 320124********1639 | D27: 天生桥社区 | E27: 2 | F27: 0 | G27: =E27-F27 -> 2
... A48: 45 | B48: 赵亲荣 | C48: 320124********1617 | D48: 无想寺社区沙板、郭兴村 | E48: 257 | F48: 0 | G48: =E48-F48 -> 257
A49: 合计 | E49: =SUM(E4:E48) -> 12452.68 | F49: =SUM(F4:F48) -> 619.49 | G49: =SUM(G4:G48) -> 11833.19 | H49: =SUM(H4:H48) -> 3113.47

Sheet 白马
A1: 附表2-4：
A2: 2026年溧水区白马镇夏季秸秆机械化还田作业面积公示表
A3: 序号 | B3: 实际种植户名称 | C3: 身份证号码/统一社会信用代码 | D3: 作业地点（村、组） | E3: 申报作业面积(亩） | F3: 核减面积 | G3: 认定作业面积(亩） | H3: 现场核查
A4: 1 | B4: 陆建婷 | C4: 321121********3226 | D4: 上洋吴家边 | E4: 48.62 | F4: 0 | G4: =E4-F4 -> 48.62 | H4: 48.62
A5: 2 | B5: 毛绍生 | C5: 320124********1818 | D5: 上洋涧屋 | E5: 234.16 | F5: 0 | G5: =E5-F5 -> 234.16 | H5: 234.16
A6: 3 | B6: 袁先军 | C6: 320124********0019 | D6: 上洋张家山 | E6: 95 | F6: 0 | G6: =E6-F6 -> 95 | H6: 95
A7: 4 | B7: 江苏南京国家农业高新技术产业示范区发展集团有限公司 | C7: 913201175555374776 | D7: 上洋马笪里 | E7: 1200 | F7: 0 | G7: =E7-F7 -> 1200 | H7: 1200
A8: 5 | B8: 南京润洋农业服务有限公司 | C8: 91320117MA25JRBW4X | D8: 上洋 | E8: 108.55 | F8: 0 | G8: =E8-F8 -> 108.55 | H8: 108.55
A9: 6 | B9: 溧水区小杨家庭农场 | C9: 92320117MACFUFPU1R | D9: 上洋马笪里、官塘 | E9: 580 | F9: 0 | G9: =E9-F9 -> 580 | H9: 580
A10: 7 | B10: 南京健宝生态农业有限公司 | C10: 91320117302566317N | D10: 上洋段段家山 | E10: 26.12 | F10: 0 | G10: =E10-F10 -> 26.12
A11: 8 | B11: 史桂年 | C11: 320124********0417 | D11: 浮山上斗 | E11: 27 | F11: 0 | G11: =E11-F11 -> 27
A12: 9 | B12: 张水清 | C12: 321123********7773 | D12: 浮山东顶 | E12: 32 | F12: 0 | G12: =E12-F12 -> 32 | H12: 32
A13: 10 | B13: 南京市溧水浮山小籽花生专业合作社 | C13: 93320117MA1YUX2C41 | D13: 浮山天冲、南顶 | E13: 596.92 | F13: 0 | G13: =E13-F13 -> 596.92 | H13: 596.92
A14: 11 | B14: 郦欢喜 | C14: 320124********0010 | D14: 曹家桥尤陈边/炮铺 | E14: 142 | F14: 0 | G14: =E14-F14 -> 142 | H14: 142
A15: 12 | B15: 张道国 | C15: 320124********0036 | D15: 曹家桥武家桥 | E15: 60 | F15: 0 | G15: =E15-F15 -> 60 | H15: 60
A16: 13 | B16: 刘步才 | C16: 320723********5614 | D16: 曹家桥二岗 | E16: 128 | F16: 0 | G16: =E16-F16 -> 128 | H16: 128
A17: 14 | B17: 甘从华 | C17: 320124********0418 | D17: 曹家桥蒋家 | E17: 566 | F17: 0 | G17: =E17-F17 -> 566 | H17: 566
A18: 15 | B18: 符勤宏 | C18: 342501********3215 | D18: 曹家桥曹三组/经巷/南朝/武家桥 | E18: 206 | F18: 0 | G18: =E18-F18 -> 206 | H18: 206
A19: 16 | B19: 方兴飞 | C19: 320825********2119 | D19: 曹家桥毕家棒 | E19: 93 | F19: 0 | G19: =E19-F19 -> 93 | H19: 93
A20: 17 | B20: 许军霞 | C20: 320124********0023 | D20: 曹家桥二岗 | E20: 110 | F20: 0 | G20: =E20-F20 -> 110 | H20: 110
A21: 18 | B21: 陈树明 | C21: 320124********0015 | D21: 曹家桥南朝 | E21: 60 | F21: 0 | G21: =E21-F21 -> 60 | H21: 60
A22: 19 | B22: 张子休 | C22: 342201********7515 | D22: 曹家桥经巷 | E22: 190 | F22: 0 | G22: =E22-F22 -> 190 | H22: 190
A23: 20 | B23: 李绪水 | C23: 320124********0038 | D23: 曹家桥马上岗/炮铺 | E23: 256 | F23: 0 | G23: =E23-F23 -> 256 | H23: 256
... A30: 27 | B30: 毛绍生 | C30: 320124********1818 | D30: 朱家边蚂蚁塘 | E30: 126 | F30: 0 | G30: =E30-F30 -> 126 | H30: 126
A31: 28 | B31: 南京秦和农机服务专业合作社 | C31: 93320117062629453H | D31: 朱家边朱二、六角塘 | E31: 464.3 | F31: 0 | G31: 464.3 | H31: 464.3
A32: 29 | B32: 南京市溧水区国凤家庭农场 | C32: 92320117MA1NKELC9T | D32: 朱家边许家边 | E32: 559.3 | F32: 123.6 | G32: 435.7 | H32: 559.3
A33: 30 | B33: 南京蜻蜓智慧农业研究院有限公司 | C33: 91320117MA25WX3846 | D33: 朱家边草涧屋 | E33: 358 | F33: 0 | G33: =E33-F33 -> 358 | H33: 358
A34: 31 | B34: 南京市溧水区白马镇朱家边社区股份经济合作社 | C34: N2320117MF1819549N | D34: 朱家边、朱三 | E34: 100 | F34: 0 | G34: =E34-F34 -> 100 | H34: 100
A35: 32 | B35: 南京木本粮油专业合作社 | C35: 93320117MA1YCYWW35 | D35: 朱家边店上 | E35: 80 | F35: 0 | G35: =E35-F35 -> 80 | H35: 80
A36: 33 | B36: 夏牛龙 | C36: 340521********6819 | D36: 革新神墩 | E36: 130 | F36: 0 | G36: =E36-F36 -> 130 | H36: 130
A37: 34 | B37: 南京捷垦农机服务专业合作社 | C37: 933201173025209178 | D37: 革新交河 | E37: 367.29 | F37: 0 | G37: =E37-F37 -> 367.29 | H37: 367.29
A38: 35 | B38: 南京市溧水区宝光水稻专业合作社 | C38: 93320117MA1M9DKL2D | D38: 革新吕家山 | E38: 495.98 | F38: 55 | G38: =E38-F38 -> 440.98 | H38: 495.98
A39: 36 | B39: 南京市溧水区乐农谷物种植专业合作社 | C39: 320124********2430 | D39: 革新王家边、下塘、方庄 | E39: 211.94 | F39: 0 | G39: =E39-F39 -> 211.94 | H39: 211.94
A40: 37 | B40: 南京市溧水区创亭苗木农民专业合作社 | C40: 93320117MA20GLFQ3N | D40: 革新神墩、周家边 | E40: 30.8 | F40: 0 | G40: =E40-F40 -> 30.8 | H40: 30.8
A41: 38 | B41: 张全国 | C41: 320423********4614 | D41: 白龙张巷 | E41: 1490 | F41: 62 | G41: =E41-F41 -> 1428 | H41: 1490
A42: 39 | B42: 陈玉华 | C42: 321123********7715 | D42: 白龙北城 | E42: 457.88 | F42: 0 | G42: =E42-F42 -> 457.88 | H42: 457.88
A43: 40 | B43: 张世红 | C43: 321123********771X | D43: 白龙北城、二郎头 | E43: 298.63 | F43: 0 | G43: =E43-F43 -> 298.63 | H43: 298.63
A44: 41 | B44: 陈克兵 | C44: 321123********7719 | D44: 白龙北城 | E44: 75 | F44: 0 | G44: =E44-F44 -> 75 | H44: 75
... A71: 68 | B71: 江苏和琼农业投资有限公司 | C71: 91320117093894065U | D71: 石头寨竹蓬里 | E71: 100 | F71: 0 | G71: =E71-F71 -> 100 | H71: 100
A72: 69 | B72: 胡扣福 | C72: 320124********0052 | D72: 大树下欧家山 | E72: 358.8 | F72: =198.8-146.6-43.2 -> 9 | G72: =E72-F72 -> 349.8 | H72: 358.8
A73: 70 | B73: 方钟 | C73: 320124********0015 | D73: 大树下上陈 | E73: 22 | F73: 0 | G73: =E73-F73 -> 22
A74: 71 | B74: 黄敏 | C74: 320124********0013 | D74: 大树下梅家 | E74: 160.5 | F74: 0 | G74: =E74-F74 -> 160.5 | H74: 160.5
A75: 72 | B75: 黄柏承 | C75: 320124********0017 | D75: 大树下黄家 | E75: 127 | F75: 7 | G75: =E75-F75 -> 120 | H75: 127
A76: 73 | B76: 张玉保 | C76: 320124********0012 | D76: 大树下东杨庄 | E76: 120 | F76: 0 | G76: =E76-F76 -> 120 | H76: 120
A77: 74 | B77: 尤维春 | C77: 320124********0037 | D77: 大树下九涧桥 | E77: 208 | F77: 0 | G77: =E77-F77 -> 208 | H77: 208
A78: 75 | B78: 钱士庆 | C78: 340521********4615 | D78: 大树下周家山 | E78: 247.7 | F78: 0 | G78: =E78-F78 -> 247.7 | H78: 247.7
A79: 76 | B79: 张力 | C79: 320124********0012 | D79: 大树下九涧桥 | E79: 112 | F79: 17 | G79: =E79-F79 -> 95 | H79: 112
A80: 77 | B80: 南京脆而爽蔬菜食品有限公司 | C80: 913201177568878954 | D80: 大树下九涧桥 | E80: 225 | F80: 0 | G80: =E80-F80 -> 225 | H80: 225
A81: 78 | B81: 南京市溧水区尤继荣果蔬专业合作社 | C81: 93320117MA1TDJYH3U | D81: 大树下 | E81: 113.4 | F81: 0.4 | G81: =E81-F81 -> 113 | H81: 113.4
A82: 79 | B82: 南京市溧水区道国家庭农场 | C82: 92320117MA1N8RCW5U | D82: 大树下 | E82: 202 | F82: 49 | G82: =E82-F82 -> 153 | H82: 202
A83: 80 | B83: 南京市溧水区汤中星家庭农场 | C83: 92320117MA1QWWJY3F | D83: 大树下 | E83: 1150 | F83: 180 | G83: =E83-F83 -> 970 | H83: 1150
A84: 81 | B84: 南京坤牧有机农业有限公司 | C84: 91320117MA1YLLE273 | D84: 大树下 | E84: 76 | F84: 26 | G84: =E84-F84 -> 50 | H84: 76
A85: 82 | B85: 南京诚烨农业专业合作社 | C85: 92320117MADB49AG10 | D85: 大树下 | E85: 200 | F85: 0 | G85: =E85-F85 -> 200 | H85: 200
A86: 83 | B86: 溧水区小杨家庭农场 | C86: 92320117MACFUFPU1R | D86: 大树下 | E86: 454.99 | F86: =170.99-170.99 -> 0 | G86: =E86-F86 -> 454.99 | H86: 454.99
A87: 84 | B87: 南京市溧水区宝光水稻专业合作社 | C87: 93320117MA1M9DKL2D | D87: 大树下 | E87: 320 | F87: 0 | G87: =E87-F87 -> 320 | H87: 320
A88: 85 | B88: 溧水区春霞家庭农场 | C88: 92320117MADCLP1F3Q | D88: 大树下陈笪、葛家边 | E88: 486 | F88: =205-105 -> 100 | G88: =E88-F88 -> 386 | H88: 486
A89: 86 | B89: 南京市太伟农业科技有限公司 | C89: 91320117MADQJAU9XB | D89: 大树下 | E89: 530 | F89: 0 | G89: =E89-F89 -> 530 | H89: 530
B91: 合计 | E91: =SUM(E4:E90) -> 22583.46 | F91: =SUM(F4:F90) -> 635.3 | G91: =SUM(G4:G90) -> 21948.16 | H91: =SUM(H4:H90) -> 22508.34

Sheet 和凤
A1: 附表2-5：
A2: 2026年溧水区和凤镇夏季秸秆机械化还田作业面积公示表
A3: 序号 | B3: 实际种植户名称 | C3: 身份证号码/统一社会信用代码 | D3: 作业地点（村、组） | E3: 申报作业面积(亩） | F3: 核减面积 | G3: 认定作业面积(亩） | H3: 现场核查
A4: 1 | B4: 刘学红 | C4: 320124********2414 | D4: 吴村桥、孔镇 | E4: 87.4 | F4: 0 | G4: =E4-F4 -> 87.4
A5: 2 | B5: 沈金水 | C5: 320124********2612 | D5: 毛公铺 | E5: 1750 | F5: 3 | G5: =E5-F5 -> 1747 | H5: 1730.56
A6: 3 | B6: 司徒火根 | C6: 320124********241X | D6: 吴村桥高家、东山 | E6: 464.12 | F6: 12.62 | G6: =E6-F6 -> 451.5
A7: 4 | B7: 傅行连 | C7: 320124********2259 | D7: 中杨 | E7: 185.77 | F7: 0 | G7: =E7-F7 -> 185.77
A8: 5 | B8: 刘奇 | C8: 342522********3918 | D8: 孙家巷 | E8: 228.6 | F8: 0 | G8: =E8-F8 -> 228.6
A9: 6 | B9: 陈四根 | C9: 340521********6813 | D9: 双牌石 | E9: 90 | F9: 0 | G9: =E9-F9 -> 90
A10: 7 | B10: 俞正友 | C10: 342522********2418 | D10: 孙家巷 | E10: 37.3 | F10: 0 | G10: =E10-F10 -> 37.3
A11: 8 | B11: 俞正友 | C11: 342522********2418 | D11: 双牌石 | E11: 176.4 | F11: 0 | G11: =E11-F11 -> 176.4
A12: 9 | B12: 俞凡 | C12: 342522********2416 | D12: 双牌石 | E12: 28.6 | F12: 0 | G12: =E12-F12 -> 28.6
A13: 10 | B13: 俞凡 | C13: 342522********2416 | D13: 孙家巷 | E13: 191.56 | F13: 0 | G13: =E13-F13 -> 191.56
A14: 11 | B14: 许小头 | C14: 320124********2612 | D14: 双牌石西罗村 | E14: 50 | F14: 0 | G14: =E14-F14 -> 50
A15: 12 | B15: 贡青春 | C15: 342501********3010 | D15: 沙塘庵 | E15: 367 | F15: 9.5 | G15: =E15-F15 -> 357.5
A16: 13 | B16: 邢红青 | C16: 320124********241X | D16: 沙塘庵 | E16: 28 | F16: 0 | G16: =E16-F16 -> 28
A17: 14 | B17: 杨永锁 | C17: 342522********3910 | D17: 沙塘庵 | E17: 479.83 | F17: 0 | G17: =E17-F17 -> 479.83
... A27: 24 | B27: 南京市溧水区三水家庭农场 | C27: 92320117MA1QU7L76W | D27: 沙塘庵 | E27: 100 | F27: 0 | G27: =E27-F27 -> 100
A28: 25 | B28: 南京市溧水区白田家庭农场 | C28: 92320117MA1NJBED9C | D28: 孔镇 | E28: 656.19 | F28: 0 | G28: =E28-F28 -> 656.19 | H28: 578.72
A29: 26 | B29: 南京市溧水区俞家种植专业合作社 | C29: 93320117302679709C | D29: 毛公铺 | E29: 692.09 | F29: 95.66 | G29: =E29-F29 -> 596.43
A30: 27 | B30: 南京市溧水区俞家种植专业合作社 | C30: 93320117302679709C | D30: 孙家巷 | E30: 325.58 | F30: 0 | G30: =E30-F30 -> 325.58
A31: 28 | B31: 南京之珩农产品种植农民专业合作社 | C31: 93320117MA1YE5X34Y | D31: 毛公铺 | E31: 654.9 | F31: 34.67 | G31: =E31-F31 -> 620.23
A32: 29 | B32: 南京市溧水区奇珍生态家庭农场 | C32: 92320117MA1QULFB9U | D32: 双牌石黄家、刘家、骆驼桥、东堡 | E32: 978.21 | F32: 8.21 | G32: =E32-F32 -> 970
A33: 30 | B33: 南京溧水王友农机专业合作社 | C33: 93320117MA1MD7WJ8L | D33: 吴村桥王家、吴村桥庄家边、吴村桥新庄 | E33: 520 | F33: 0 | G33: =E33-F33 -> 520
A34: 31 | B34: 南京市溧水区众一水稻种植专业合作社 | C34: 93320117MA1NA78W6J | D34: 孔镇汗泽村 | E34: 1086 | F34: 0 | G34: =E34-F34 -> 1086 | H34: 1086
A35: 32 | B35: 南京市溧水区明头农机专业合作社 | C35: 93320117084184088B | D35: 毛公铺后家、吴巷、南边山、庙下、李家、毛公铺 | E35: 1100 | F35: 0 | G35: =E35-F35 -> 1100
A36: 33 | B36: 南京三元农业科技有限公司 | C36: 91320117MA1Q58D98D | D36: 孔镇胡家庄、孔镇广西叶家 | E36: 606.44 | F36: 0 | G36: =E36-F36 -> 606.44 | H36: 606.44
A37: 34 | B37: 南京市溧水区谷丰农机专业合作社 | C37: 93320117585093299P | D37: 吴村桥吴村桥村、吴村桥陈郭村 | E37: 1600 | F37: 0 | G37: =E37-F37 -> 1600 | H37: 1600
A38: 35 | B38: 南京和美凤鸣谷物种植专业合作社 | C38: 93320117MA216P0966 | D38: 中杨、张许、西刘、南刘、南杨 | E38: 2221.3 | F38: 0 | G38: =E38-F38 -> 2221.3
A39: 36 | B39: 南京市溧水区沈和平家庭农场 | C39: 92320117MA1NUYE56R | D39: 骆山1-6组 | E39: 350 | F39: 0 | G39: =E39-F39 -> 350
A40: 37 | B40: 南京市溧水区沈和平家庭农场 | C40: 92320117MA1NUYE56R | D40: 沙塘庵门前村 | E40: 582 | F40: 0 | G40: =E40-F40 -> 582
A41: 38 | B41: 南京峰和农业发展科技有限公司 | C41: 91320117MA26EE8CXX | D41: 沈家山 | E41: 1860 | F41: 0 | G41: =E41-F41 -> 1860
A42: 39 | B42: 南京溧水公正稻米种植专业合作社 | C42: 93320117053266144M | D42: 吴村桥 | E42: 1163 | F42: 0 | G42: =E42-F42 -> 1163 | H42: 1163
A43: 40 | B43: 南京市溧水区燕云家庭农场 | C43: 92320117MA1PBFA9XQ | D43: 孔镇 | E43: 1012.76 | F43: 2.05 | G43: =E43-F43 -> 1010.71 | H43: 1012.18
A44: 41 | B44: 溧水区欣农家庭农场 | C44: 92320117MA22D7MD93 | D44: 中杨邢家、大梅、周家 | E44: 445.08 | F44: 68.59 | G44: =E44-F44 -> 376.49
A45: 42 | B45: 溧水区欣农家庭农场 | C45: 92320117MA22D7MD93 | D45: 沙塘庵 | E45: 308.54 | F45: 0 | G45: =E45-F45 -> 308.54
A46: 43 | B46: 南京永浩生态农业专业合作社 | C46: 93320117MA1YD2W50H | D46: 吴村桥 | E46: 34 | F46: 0 | G46: =E46-F46 -> 34
A47: 44 | B47: 南京和丰生态农业科技有限公司 | C47: 91320117MA7FMDH23B | D47: 骆山 | E47: 1215 | F47: 0 | G47: =E47-F47 -> 1215
A48: 45 | B48: 南京业峰水稻种植专业合作社 | C48: 93320117MA2289HE3F | D48: 沈家山 | E48: 103.51 | F48: 0.51 | G48: =E48-F48 -> 103
A49: 46 | B49: 南京康达粮油食品有限公司 | C49: 91320117MACA65MC2D | D49: 沙塘庵 | E49: 356.62 | F49: 0 | G49: =E49-F49 -> 356.62
A50: 47 | B50: 南京十月弯腰粮油种植专业合作社 | C50: 93320117MAERLHPH6A | D50: 乌飞塘 | E50: 541 | F50: 0 | G50: =E50-F50 -> 541
A51: 48 | B51: 南京花露家庭农场有限公司 | C51: 913201170939754209 | D51: 骆山 | E51: 991.74 | F51: 27.13 | G51: =E51-F51 -> 964.61
A52: 49 | B52: 南京市溧水区圣晓家庭农场 | C52: 92320117MA1URX2T38 | D52: 毛公铺 | E52: 511 | F52: 0 | G52: =E52-F52 -> 511
A53: 50 | B53: 南京市溧水区绿源家庭农场 | C53: 92320117MA1NR29G0C | D53: 吴村桥 | E53: 530 | F53: 24 | G53: =E53-F53 -> 506
A54: 合计 | E54: =SUM(E4:E53) -> 27106.55 | F54: =SUM(F4:F53) -> 288.84 | G54: =SUM(G4:G53) -> 26817.71 | H54: =SUM(H4:H53) -> 7776.9

Sheet 永阳
A1: 附表2-6：
A2: 2026年溧水区永阳街道夏季秸秆机械化还田作业面积公示表
A3: 序号 | B3: 实际种植户名称 | C3: 身份证号码/统一社会信用代码 | D3: 作业地点（村、组） | E3: 申报作业面积(亩） | F3: 核减面积 | G3: 认定作业面积(亩） | H3: 现场核查
A4: 1 | B4: 南京溧水东山苗木专业合作社 | C4: 93320117671337499R | D4: 张公塘、倪村头 | E4: 264 | F4: 0 | G4: =E4-F4 -> 264
A5: 2 | B5: 南京苏缘苗木种植专业合作社 | C5: 93320117MA1M9B7D99 | D5: 板塘、丁家边 | E5: 1860 | F5: 0 | G5: =E5-F5 -> 1860
A6: 3 | B6: 溧水玉刚家庭农场 | C6: 92320117MACT71F95J | D6: 山脚底 | E6: 180.59 | F6: 0 | G6: =E6-F6 -> 180.59
A7: 4 | B7: 南京市溧水区自来水有限公司 | C7: 91320117135782732R | D7: 邱家、赵家 | E7: 366.85 | F7: 0 | G7: =E7-F7 -> 366.85
A8: 5 | B8: 李红梅 | C8: 220223********0025 | D8: 山脚底 | E8: 180.1 | F8: 0 | G8: =E8-F8 -> 180.1
A9: 6 | B9: 徐海兵 | C9: 320124********3270 | D9: 张公塘 | E9: 58.8 | F9: 0 | G9: =E9-F9 -> 58.8
A10: 7 | B10: 董元根 | C10: 320124********0215 | D10: 同砚坊 | E10: 1 | F10: 0 | G10: =E10-F10 -> 1
A11: 8 | B11: 蔡维芳 | C11: 320214********0248 | D11: 同砚坊 | E11: 1.93 | F11: 0 | G11: =E11-F11 -> 1.93
A12: 9 | B12: 方善华 | C12: 320124********0236 | D12: 夏庄 | E12: 10.5 | F12: 0 | G12: =E12-F12 -> 10.5
A13: 10 | B13: 马美喜 | C13: 320124********0216 | D13: 夏庄 | E13: 4.9 | F13: 0 | G13: =E13-F13 -> 4.9
A14: 11 | B14: 朱明凤 | C14: 320124********0223 | D14: 夏庄 | E14: 2.5 | F14: 0 | G14: =E14-F14 -> 2.5
A15: 12 | B15: 徐日松 | C15: 320124********0253 | D15: 尹庄 | E15: 2.5 | F15: 0 | G15: =E15-F15 -> 2.5
... A103: 100 | B103: 臧令胜 | C103: 320124********0218 | D103: 周西 | E103: 10 | F103: 10 | G103: =E103-F103 -> 0
A104: 101 | B104: 南京市金元鑫水稻种植专业合作社 | C104: 93320117MA1WUXU882 | D104: 小胡家边、谈冲、岗北头、大胡家边 | E104: 849.92 | F104: 0 | G104: =E104-F104 -> 849.92 | H104: 849.92
A105: 102 | B105: 南京市溧水区金亮家庭农场 | C105: 92320117MA1QRQUK59 | D105: 新老屋、北庄头、潘家、韦家大村、石滩头 | E105: 977.59 | F105: 0 | G105: =E105-F105 -> 977.59 | H105: =346.13+124.55+75.33+194.41 -> 740.42
A106: 103 | B106: 南京市溧水区琴音食用菌种植专业合作社 | C106: 93320117MA1MMX6X7W | D106: 北庄头 | E106: 21 | F106: 0 | G106: =E106-F106 -> 21
A107: 104 | B107: 溧水区慢享果蔬种植家庭农场 | C107: 92320117MAEG01NY49 | D107: 韦家大村 | E107: 14.89 | F107: 0 | G107: =E107-F107 -> 14.89
A108: 105 | B108: 谢小华 | C108: 320124********3213 | D108: 郑巷、涧东 | E108: 422.35 | F108: 0 | G108: =E108-F108 -> 422.35
A109: 106 | B109: 汤小将 | C109: 320124********0016 | D109: 栀枝岗 | E109: 312.33 | F109: 0 | G109: =E109-F109 -> 312.33 | H109: 312.33
A110: 107 | B110: 王道飞 | C110: 340321********0538 | D110: 南庄头、谈冲、栀枝岗、前巷口、石滩头、北庄头、潘家 | E110: 1253.42 | F110: 1253.42 | G110: =E110-F110 -> 0
A111: 108 | B111: 韦红兵 | C111: 320124********0219 | D111: 大胡家边 | E111: 82.44 | F111: 0 | G111: =E111-F111 -> 82.44
A112: 109 | B112: 戴宝 | C112: 320124********1412 | D112: 潘家、韦家大村 | E112: 179.4 | F112: 0 | G112: =E112-F112 -> 179.4
A113: 110 | B113: 李清 | C113: 320124********021X | D113: 红家边 | E113: 8.59 | F113: 0 | G113: =E113-F113 -> 8.59
A114: 111 | B114: 吴世和 | C114: 320124********0231 | D114: 潘家 | E114: 10.03 | F114: 0 | G114: =E114-F114 -> 10.03
A115: 112 | B115: 鲁永成 | C115: 320124********0218 | D115: 红家边 | E115: 14.06 | F115: 0 | G115: =E115-F115 -> 14.06
A116: 113 | B116: 南京溧水常青高效农业种植农民专业合作社 | C116: 93320117MA21XCK524 | D116: 文昌路以南、246以东、中山水库以北 | E116: 1410 | F116: 0 | G116: =E116-F116 -> 1410 | H116: =437.98+196.85 -> 634.83
A117: 114 | B117: 南京亚云粮食种植农民专业合作社 | C117: 93320114MA2397EY9D | D117: 西边庄村 | E117: 746.49 | F117: 0 | G117: =E117-F117 -> 746.49 | H117: 746.49
A118: 115 | B118: 南京苏缘苗木种植专业合作社 | C118: 93320117MA1M9B7D99 | D118: 清水塘、庄家、山东头 | E118: 923.51 | F118: 0 | G118: =E118-F118 -> 923.51 | H118: 923.51
A119: 116 | B119: 杨胜 | C119: 320124********0212 | D119: 王家店 | E119: 237.63 | F119: 0 | G119: =E119-F119 -> 237.63
A120: 117 | B120: 史定保 | C120: 320124********0217 | D120: 砖瓦厂 | E120: 45.98 | F120: 0 | G120: =E120-F120 -> 45.98
A121: 118 | B121: 朱寿华 | C121: 320124********0218 | D121: 山东头 | E121: 17.46 | F121: 0 | G121: =E121-F121 -> 17.46
A122: 119 | B122: 汤永刚 | C122: 320124********0215 | D122: 韩胡村 | E122: 17.13 | F122: 0 | G122: =E122-F122 -> 17.13
A123: 120 | B123: 杨福保 | C123: 320124********0210 | D123: 杨家、农中 | E123: 120.52 | F123: 0 | G123: =E123-F123 -> 120.52
A124: 121 | B124: 徐忠明 | C124: 320124********1414 | D124: 清水塘、上尹 | E124: 172.02 | F124: 0 | G124: =E124-F124 -> 172.02
A125: 122 | B125: 查全俊 | C125: 320124********0214 | D125: 凉蓬下 | E125: 139.32 | F125: 0 | G125: =E125-F125 -> 139.32
A126: 123 | B126: 南京清福园生态农业开发有限公司 | C126: 91320117MA27KPT094 | D126: 凉蓬下 | E126: 32.63 | F126: 0 | G126: =E126-F126 -> 32.63
A127: 124 | B127: 张正保 | C127: 320124********0212 | D127: 山东头 | E127: 39.33 | F127: 0 | G127: =E127-F127 -> 39.33
A128: 125 | B128: 南京石福建筑工程有限公司 | C128: 91320117MA7JABF902 | D128: 石巷 | E128: 1577.5 | F128: 0 | G128: =E128-F128 -> 1577.5
A129: 126 | B129: 靳永合 | C129: 320124********0211 | D129: 泥巷 | E129: 0.7 | F129: 0 | G129: =E129-F129 -> 0.7
A130: 127 | B130: 杨主寿 | C130: 320124********0239 | D130: 泥巷 | E130: 2.1 | F130: 0 | G130: =E130-F130 -> 2.1
... A134: 131 | B134: 靳永义 | C134: 320124********0215 | D134: 泥巷 | E134: 0.6 | F134: 0 | G134: =E134-F134 -> 0.6
A135: 合计 | E135: =SUM(E4:E134) -> 14584.14 | F135: =SUM(F4:F134) -> 1263.42 | G135: =SUM(G4:G134) -> 13320.72 | H135: =SUM(H4:H134) -> 4207.5

Sheet 石湫
A1: 附表2-7：
A2: 2026年溧水区石湫街道夏季秸秆机械化还田作业面积公示表
A3: 序号 | B3: 实际种植户名称 | C3: 身份证号码/统一社会信用代码 | D3: 作业地点（村、组） | E3: 申报作业面积(亩） | F3: 核减面积 | G3: 认定作业面积(亩） | H3: 现场核查
A4: 1 | B4: 蒋立武 | C4: 340521********3358 | D4: 蟹塘社区高标准农田 | E4: 332.6 | F4: 0 | G4: =E4-F4 -> 332.6 | H4: =94.71+155.74 -> 250.45
A5: 2 | B5: 南京和金粮食种植专业合作社 | C5: 93320117MA20E94J20 | D5: 蟹塘社区高标准农田 | E5: 142.26 | F5: 8.06 | G5: =E5-F5 -> 134.2
A6: 3 | B6: 南京开泰农业有限公司 | C6: 91320115MADPH8R0X1 | D6: 蟹塘社区高标准农田 | E6: 248 | F6: 0 | G6: =E6-F6 -> 248 | H6: 248
A7: 4 | B7: 曹先进 | C7: 340521********3330 | D7: 蟹塘社区 | E7: 252.8 | F7: 0 | G7: =E7-F7 -> 252.8
A8: 5 | B8: 夏荣泉 | C8: 340521********3316 | D8: 蟹塘社区高标准农田、潘村 | E8: 294 | F8: 6.4 | G8: =E8-F8 -> 287.6
A9: 6 | B9: 夏德宏 | C9: 340521********3312 | D9: 蟹塘社区高标准农田 | E9: 363 | F9: 0 | G9: =E9-F9 -> 363
A10: 7 | B10: 戴洪福 | C10: 340521********3319 | D10: 蟹塘社区高标准农田 | E10: 521 | F10: 0 | G10: =E10-F10 -> 521 | H10: =370.41+113.69 -> 484.1
A11: 8 | B11: 南京溧水润博农作物种植合作社 | C11: 93320117080261971C | D11: 蟹塘社区高标准农田 | E11: 554.78 | F11: 0 | G11: =E11-F11 -> 554.78 | H11: 543.1
A12: 9 | B12: 南京市溧水区学友家庭农场 | C12: 92320117MA1NXHD25F | D12: 蟹塘社区高标准农田 | E12: 701.5 | F12: 36.5 | G12: =E12-F12 -> 665 | H12: 299.68
A13: 10 | B13: 仲顺羊 | C13: 320124********1813 | D13: 大圩东 | E13: 149.64 | F13: 9.04 | G13: =E13-F13 -> 140.6
A14: 11 | B14: 仲顺虎 | C14: 320124********1819 | D14: 大圩东 | E14: 58.69 | F14: 0 | G14: =E14-F14 -> 58.69
A15: 12 | B15: 南京市溧水区仲阿宝农机服务专业合作社 | C15: 933201173025263311 | D15: 小圩东 | E15: 148.5 | F15: 0 | G15: =E15-F15 -> 148.5
A16: 13 | B16: 南京市溧水区建标水稻种植专业合作社 | C16: 93320117339442860Y | D16: 九塘村前村、后村 | E16: 830 | F16: 0 | G16: =E16-F16 -> 830
A17: 14 | B17: 江苏同仁生态农业科技有限公司 | C17: 913200001348578358 | D17: 曾家 | E17: 43 | F17: 0 | G17: =E17-F17 -> 43
A18: 15 | B18: 王海明 | C18: 320124********1832 | D18: 大冲、竹丝岗、后村 | E18: 485 | F18: 0 | G18: =E18-F18 -> 485 | I18: 原扣100亩的是驼文山的
A19: 16 | B19: 南京市溧水区家其家庭农场 | C19: 923201********DQ5T | D19: 李在凤 | E19: 154 | F19: 0 | G19: =E19-F19 -> 154
A20: 17 | B20: 溧水区海鸥家庭农场 | C20: 923201********CW86 | D20: 西元村、梨元村 | E20: 360 | F20: 0 | G20: =E20-F20 -> 360
A21: 18 | B21: 赵政福 | C21: 340521********681X | D21: 毛家圩 | E21: 335 | F21: 0 | G21: =E21-F21 -> 335
A22: 19 | B22: 江苏一乙艺术庄园有限公司 | C22: 91320117MA1YH8UY3F | D22: 郭塘头 | E22: 60 | F22: 0 | G22: =E22-F22 -> 60
A23: 20 | B23: 王胜海 | C23: 320124********1832 | D23: 孙家庄、谢家、曾家、龚家 | E23: 360.41 | F23: 0 | G23: =E23-F23 -> 360.41
A24: 21 | B24: 南京市溧水区驼文山农地股份合作社 | C24: 93320117MA1WP48X62 | D24: 九塘 | E24: 130 | F24: 0 | G24: 130 | I24: 小麦230，本次申报130，另100亩给王海明
A25: 22 | B25: 南京景博园谷生态农业科技有限公司 | C25: 91320117MAKHJFU39E | D25: 小曹村 | E25: 165 | F25: 0 | G25: =E25-F25 -> 165
A26: 23 | B26: 南京田欢农业科技发展有限公司 | C26: 91320117MA27T72D39 | D26: 魏家村、社东村、塘埂村、山口村、 | E26: 961 | F26: 0 | G26: =E26-F26 -> 961 | H26: =94.21+67.32+61.55+104.21+74.76+162.19+47.79+36.9+18.64 -> 667.57
A27: 24 | B27: 南京市郭湫种植专业合作社 | C27: 93320117MA26A5EF6M | D27: 魏家村、任里村、杨家村 | E27: 600 | F27: 0 | G27: =E27-F27 -> 600 | H27: =23.8+55.19+45.06+84.8+178.54+189.64 -> 577.03
A28: 25 | B28: 陈四保 | C28: 320124********2417 | D28: 任里村 | E28: 81.5 | F28: 0 | G28: =E28-F28 -> 81.5
A29: 26 | B29: 曹磊 | C29: 320124********3210 | D29: 山口 | E29: 33.64 | F29: 0 | G29: =E29-F29 -> 33.64
A30: 27 | B30: 陈红军 | C30: 320124********1839 | D30: 陈盖 | E30: 33.6 | F30: 0 | G30: =E30-F30 -> 33.6
A31: 28 | B31: 陈万强 | C31: 320124********3213 | D31: 魏家村、塘埂村 | E31: 55 | F31: 0 | G31: =E31-F31 -> 55
A32: 29 | B32: 陈双 | C32: 320124********1810 | D32: 陈盖 | E32: 110 | F32: 0 | G32: =E32-F32 -> 110
A33: 30 | B33: 陶正福 | C33: 340521********681X | D33: 汤庄、官塘角、神塘头 | E33: 1142 | F33: 0 | G33: =E33-F33 -> 1142 | H33: =473.61+116.75+230.3 -> 820.66
A34: 31 | B34: 董青建 | C34: 320124********1835 | D34: 熊家 | E34: 141 | F34: 0 | G34: =E34-F34 -> 141
A35: 32 | B35: 陶贵发 | C35: 340521********3333 | D35: 臧村头 | E35: 157 | F35: 0 | G35: =E35-F35 -> 157
A36: 33 | B36: 陈振春 | C36: 320124********1835 | D36: 郗家 | E36: 356 | F36: 0 | G36: =E36-F36 -> 356
A37: 34 | B37: 赵其刚 | C37: 320827********3435 | D37: 新建 | E37: 118 | F37: 0 | G37: =E37-F37 -> 118
A38: 35 | B38: 王红春 | C38: 341224********2114 | D38: 西塘头 | E38: 390 | F38: 0 | G38: =E38-F38 -> 390
A39: 36 | B39: 赵洪海 | C39: 340521********3316 | D39: 陈家岗自然村 | E39: 119 | F39: 31 | G39: =E39-F39 -> 88
A40: 37 | B40: 刘大双 | C40: 340521********3382 | D40: 三元自然村 | E40: 258 | F40: 0 | G40: =E40-F40 -> 258
A41: 38 | B41: 刘春金 | C41: 320124********1813 | D41: 田冲自然村 | E41: 83 | F41: 0 | G41: =E41-F41 -> 83
A42: 39 | B42: 夏彩根 | C42: 340521********6835 | D42: 桑园蒲自然村 | E42: 114 | F42: 4 | G42: =E42-F42 -> 110
A43: 40 | B43: 南京市溧水区高尚家庭农场 | C43: 92320117MA1QR49F0Y | D43: 桑园蒲自然村 | E43: 282 | F43: 0 | G43: =E43-F43 -> 282
A44: 41 | B44: 南京市溧水区秋露家庭农场 | C44: 92320117MA1QWDD566 | D44: 田冲、枣树岗村 | E44: 186 | F44: 0 | G44: =E44-F44 -> 186
A45: 42 | B45: 周骏保 | C45: 320124********1812 | D45: 大杨甸冲自然村 | E45: 98 | F45: 0 | G45: =E45-F45 -> 98 | I45: 小麦209亩，其他给了夏绍起111
A46: 43 | B46: 夏绍起 | C46: 340521********3333 | D46: 大、小杨甸冲村 | E46: 410 | F46: =162-111 -> 51 | G46: =E46-F46 -> 359
A47: 44 | B47: 任建林 | C47: 340521********3317 | D47: 油榨、桑园蒲村 | E47: 207 | F47: 0 | G47: =E47-F47 -> 207
A48: 45 | B48: 蒋尊宝 | C48: 340521********3334 | D48: 枣树岗、桑园蒲村 | E48: 287 | F48: 0 | G48: =E48-F48 -> 287
A49: 46 | B49: 武宗林 | C49: 320124********181X | D49: 田冲自然村 | E49: 2 | F49: 0 | G49: =E49-F49 -> 2
A50: 47 | B50: 武兆根 | C50: 320124********1812 | D50: 田冲自然村 | E50: 1 | F50: 0 | G50: =E50-F50 -> 1
A51: 48 | B51: 孙绵寿 | C51: 320124********1816 | D51: 小杨甸冲自然村 | E51: 1 | F51: 0 | G51: =E51-F51 -> 1
A52: 49 | B52: 孙延贵 | C52: 320124********1811 | D52: 小杨甸冲自然村 | E52: 3 | F52: 0 | G52: =E52-F52 -> 3
A53: 50 | B53: 孙延胜 | C53: 320124********183X | D53: 小杨甸冲自然村 | E53: 1 | F53: 0 | G53: =E53-F53 -> 1
A54: 51 | B54: 周骏湘 | C54: 320124********1811 | D54: 大杨甸冲自然村 | E54: 1 | F54: 0 | G54: =E54-F54 -> 1
A55: 52 | B55: 周俊 | C55: 320124********1814 | D55: 大杨甸冲自然村 | E55: 1 | F55: 0 | G55: =E55-F55 -> 1
A56: 53 | B56: 周昌汪 | C56: 320124********1811 | D56: 大杨甸冲自然村 | E56: 1.2 | F56: 0 | G56: =E56-F56 -> 1.2
A57: 54 | B57: 武兆银 | C57: 320124********1814 | D57: 大杨甸冲自然村 | E57: 1.4 | F57: 0 | G57: =E57-F57 -> 1.4
A58: 55 | B58: 武生保 | C58: 320124********1818 | D58: 大杨甸冲自然村 | E58: 1.8 | F58: 0 | G58: =E58-F58 -> 1.8
... A71: 68 | B71: 南京科杰生态农业有限公司 | C71: 91320117MADJUBR70H | D71: 光明社区洪曹村 | E71: 156 | F71: 0 | G71: =E71-F71 -> 156
A72: 69 | B72: 南京禾睿农业专业合作社 | C72: 93320117MAC44YP068 | D72: 光明社区中武盖村 | E72: 360 | F72: 0 | G72: =E72-F72 -> 360 | H72: =75.58+116.39+95.74 -> 287.71
A73: 70 | B73: 南京市溧水区恒晟苗木家庭农场 | C73: 92320117MA1YCHG46N | D73: 光明社区杨甸村 | E73: 77 | F73: 0 | G73: =E73-F73 -> 77
A74: 71 | B74: 夏训誉 | C74: 340521********6834 | D74: 光明社区罗家村 | E74: 260 | F74: 0 | G74: =E74-F74 -> 260
A75: 72 | B75: 朱昌利 | C75: 320827********3532 | D75: 光明社区裴家村 | E75: 462 | F75: 0 | G75: =E75-F75 -> 462
A76: 73 | B76: 晋高松 | C76: 320829********0430 | D76: 光明社区沟西村 | E76: 60 | F76: 0 | G76: =E76-F76 -> 60
A77: 74 | B77: 武孝庆 | C77: 320124********2033 | D77: 光明社区中武盖村 | E77: 501 | F77: 0 | G77: =E77-F77 -> 501
A78: 75 | B78: 毛春海 | C78: 320124********201X | D78: 光明社区沟西村 | E78: 299 | F78: 0 | G78: =E78-F78 -> 299
A79: 76 | B79: 陈敏 | C79: 320124********0447 | D79: 光明社区杨甸村 | E79: 606 | F79: 0 | G79: =E79-F79 -> 606
A80: 77 | B80: 翟先兵 | C80: 320124********2019 | D80: 光明社区翟家村 | E80: 42 | F80: 0 | G80: =E80-F80 -> 42
A81: 78 | B81: 黄家连 | C81: 320124********2014 | D81: 茅村、东旺村 | E81: 221.6 | F81: 0 | G81: =E81-F81 -> 221.6
A82: 79 | B82: 方军亚 | C82: 320124********2058 | D82: 西旺村 | E82: 575.6 | F82: 0 | G82: =E82-F82 -> 575.6
A83: 80 | B83: 陈道健 | C83: 340521********3010 | D83: 明觉寺 | E83: 39.8 | F83: 0 | G83: =E83-F83 -> 39.8
A84: 81 | B84: 夏华佑 | C84: 340521********3319 | D84: 上甸村 | E84: 247 | F84: 0 | G84: =E84-F84 -> 247
... A120: 117 | B120: 溧水区湫胜家庭农场 | C120: 92320117MACUUBCJ14 | D120: 戚家 | E120: 102 | F120: 0 | G120: =E120-F120 -> 102
A121: 118 | B121: 南京市湫丰综合服务有限公司 | C121: 91320117MA7KKPKD9P | D121: 李家、东头 | E121: 286 | F121: 0 | G121: =E121-F121 -> 286 | H121: 286
A122: 119 | B122: 张世红 | C122: 321123********771X | D122: 詹家 | E122: 178 | F122: 0 | G122: =E122-F122 -> 178
A123: 120 | B123: 陈孝友 | C123: 321123********7731 | D123: 詹家 韩家、小鲁村、下河口 | E123: 345 | F123: 0 | G123: =E123-F123 -> 345
A124: 121 | B124: 傅典勤 | C124: 320124********181X | D124: 李家 | E124: 111 | F124: 0 | G124: =E124-F124 -> 111 | H124: 111
A125: 122 | B125: 曹光荣 | C125: 320124********1835 | D125: 葫芦坝 | E125: 450 | F125: 120 | G125: =E125-F125 -> 330 | H125: 225.73
A126: 123 | B126: 傅典勤 | C126: 320124********181X | D126: 施家庄 | E126: 51.5 | F126: 0 | G126: =E126-F126 -> 51.5
A127: 124 | B127: 南京禾睿农业专业合作社 | C127: 93320117MAC44YP068 | D127: 石湫街道上方村上方寺、思贤、社坛、柿园、端祥、施家庄、葫芦坝、杨家 | E127: 1350 | F127: =660-200 -> 460 | G127: =E127-F127 -> 890 | I127: 陶德沅的200亩给了禾睿，
A128: 125 | B128: 南京吉禾农业农民专业合作社 | C128: 93320117MABTP9XM4P | D128: 上方寺 | E128: 20 | F128: 0 | G128: =E128-F128 -> 20
A129: 126 | B129: 南京十朝开心果蔬专业合作社 | C129: 93320117MABT4PGC3K | D129: 上方村长冲、道士庄 | E129: 230 | F129: 3.34 | G129: =E129-F129 -> 226.66
A130: 127 | B130: 南京天润农业有限公司 | C130: 91320117MA22KN370Q | D130: 端祥 | E130: 31.17 | F130: 0 | G130: =E130-F130 -> 31.17
A131: 128 | B131: 南京熊窝民宿经营管理有限公司 | C131: 91320104MA1WQY2H4C | D131: 小村 | E131: 20 | F131: 0 | G131: =E131-F131 -> 20
A132: 129 | B132: 许士平 | C132: 320121********3132 | D132: 大村、小村 | E132: 453.99 | F132: 0 | G132: =E132-F132 -> 453.99
A133: 130 | B133: 余瑞珍 | C133: 320121********2312 | D133: 端祥 | E133: 15 | F133: 0 | G133: =E133-F133 -> 15
A134: 131 | B134: 张桂宏 | C134: 320124********1815 | D134: 上方寺 | E134: 28 | F134: 0 | G134: =E134-F134 -> 28
A135: 132 | B135: 赵平 | C135: 320382********9444 | D135: 端祥 | E135: 15 | F135: 0 | G135: =E135-F135 -> 15
A136: 133 | B136: 南京飞阳农产品种植专业合作社 | C136: 93320117MA2566HF59 | D136: 向阳村 | E136: 2969.43 | F136: 0 | G136: =E136-F136 -> 2969.43
A137: 134 | B137: 朱文定 | C137: 340521********3357 | D137: 向阳村 | E137: 182 | F137: 0 | G137: =E137-F137 -> 182
A138: 135 | B138: 沈久福 | C138: 320124********325X | D138: 向阳村 | E138: 120 | F138: 0 | G138: =E138-F138 -> 120
A139: 136 | B139: 李金伙 | C139: 340521********6817 | D139: 向阳村 | E139: 307 | F139: 0 | G139: =E139-F139 -> 307
... A142: 139 | B142: 南京市溧水区连发家庭农场 | C142: 92320117MA1QRUK5XD | D142: 向阳村张家组 | E142: 138 | F142: 0 | G142: =E142-F142 -> 138
A143: 合 计 | E143: =SUM(E4:E142) -> 30072.56 | F143: =SUM(F4:F142) -> 821.54 | G143: =SUM(G4:G142) -> 29251.02 | H143: =SUM(H4:H142) -> 4801.03

Sheet 东屏
A1: 附表2-8：
A2: 2026年溧水区东屏街道夏季秸秆机械化还田作业面积公示表
A3: 序号 | B3: 实际种植户名称 | C3: 身份证号码/统一社会信用代码 | D3: 作业地点（村、组） | E3: 申报作业面积(亩） | F3: 核减面积 | G3: 认定作业面积(亩） | H3: 现场核查
A4: 1 | B4: 南京溧水久根农业服务专业合作社 | C4: 93320117679036981Y | D4: 东屏镇白鹿村 | E4: 2049 | F4: 0 | G4: =E4-F4 -> 2049 | H4: 2049
A5: 2 | B5: 南京丰色田园农业发展有限公司 | C5: 91320117MA23598309 | D5: 东屏镇白鹿村 | E5: 88 | F5: 0 | G5: =E5-F5 -> 88 | H5: 88
A6: 3 | B6: 南京市溧水区俞成明家庭农场 | C6: 92320117MA1P2C259X | D6: 爱廉村 | E6: 28.9 | F6: 0 | G6: =E6-F6 -> 28.9
A7: 4 | B7: 张俞 | C7: 320124********1231 | D7: 爱廉村 | E7: 69.7 | F7: 0 | G7: =E7-F7 -> 69.7 | H7: 69.7
A8: 5 | B8: 杨兆成 | C8: 320124********1218 | D8: 爱廉村 | E8: 20.3 | F8: 0 | G8: =E8-F8 -> 20.3
A9: 6 | B9: 张远志 | C9: 320124********1218 | D9: 爱廉村 | E9: 2215.03 | F9: 0 | G9: =E9-F9 -> 2215.03 | H9: 2215.03
A10: 7 | B10: 杨家文 | C10: 320124********1235 | D10: 爱廉村 | E10: 17.5 | F10: 0 | G10: =E10-F10 -> 17.5
A11: 8 | B11: 宋军林 | C11: 320124********1235 | D11: 爱廉村 | E11: 19.87 | F11: 0 | G11: =E11-F11 -> 19.87
A12: 9 | B12: 金守平 | C12: 320124********1235 | D12: 爱廉村 | E12: 20.48 | F12: 0 | G12: =E12-F12 -> 20.48
A13: 10 | B13: 金守云 | C13: 320124********1215 | D13: 爱廉村 | E13: 19.66 | F13: 0 | G13: =E13-F13 -> 19.66
A14: 11 | B14: 南京锦卉农业发展有限公司 | C14: 91320117MA27304N7M | D14: 爱廉村 | E14: 167.96 | F14: 0 | G14: =E14-F14 -> 167.96 | H14: 167.96
A15: 12 | B15: 杨兆保 | C15: 320124********1213 | D15: 爱廉村 | E15: 12.24 | F15: 0 | G15: =E15-F15 -> 12.24
A16: 13 | B16: 杨兆才 | C16: 320124********1255 | D16: 爱廉村 | E16: 40.98 | F16: 0 | G16: =E16-F16 -> 40.98 | H16: 40.98
A17: 14 | B17: 邓皓升 | C17: 320124********1252 | D17: 爱廉村 | E17: 38.16 | F17: 0 | G17: =E17-F17 -> 38.16 | H17: 38.16
A18: 15 | B18: 王泽岑 | C18: 320827********0278 | D18: 爱廉村 | E18: 140.18 | F18: 0 | G18: =E18-F18 -> 140.18 | H18: 140.18
A19: 16 | B19: 王守金 | C19: 320124********1214 | D19: 爱廉村 | E19: 9.67 | F19: 0 | G19: =E19-F19 -> 9.67
A20: 17 | B20: 张映华 | C20: 320124********1215 | D20: 爱廉村 | E20: 698.93 | F20: 0 | G20: =E20-F20 -> 698.93 | H20: 698.93
A21: 18 | B21: 陈前勇 | C21: 342623********7155 | D21: 爱廉村 | E21: 294.51 | F21: 0 | G21: =E21-F21 -> 294.51 | H21: 294.51
A22: 19 | B22: 李继平 | C22: 321123********1610 | D22: 爱廉村 | E22: 122.48 | F22: 0 | G22: =E22-F22 -> 122.48 | H22: 122.48
A23: 20 | B23: 刘继顺 | C23: 321183********3814 | D23: 爱廉村 | E23: 134.46 | F23: 0 | G23: =E23-F23 -> 134.46 | H23: 134.46
A24: 21 | B24: 南京市溧水区和平农机服务专业合作社 | C24: 93320117MA1Q09DN85 | D24: 和平村 | E24: 3673.72 | F24: 0 | G24: =E24-F24 -> 3673.72 | H24: 3673.72
A25: 22 | B25: 易长保 | C25: 320124********0615 | D25: 丽山村 | E25: 410 | F25: 0 | G25: =E25-F25 -> 410 | H25: 410
A26: 23 | B26: 易明宏 | C26: 320124********0615 | D26: 丽山村 | E26: 210 | F26: 0 | G26: =E26-F26 -> 210 | H26: 210
A27: 24 | B27: 丁正兴 | C27: 320124********0614 | D27: 丽山村 | E27: 83.63 | F27: 0 | G27: =E27-F27 -> 83.63 | H27: 83.63
A28: 25 | B28: 初方 | C28: 320106********083X | D28: 丽山村 | E28: 70 | F28: 0 | G28: =E28-F28 -> 70 | H28: 70
A29: 26 | B29: 刘艳 | C29: 341621********4328 | D29: 丽山村 | E29: 27 | F29: 0 | G29: =E29-F29 -> 27
A30: 27 | B30: 刘正祥 | C30: 320124********0617 | D30: 丽山村 | E30: 196 | F30: 0 | G30: =E30-F30 -> 196 | H30: 196
A31: 28 | B31: 高冬顺 | C31: 320124********0616 | D31: 丽山村 | E31: 38 | F31: 0 | G31: =E31-F31 -> 38 | H31: 38
A32: 29 | B32: 王明根 | C32: 320124********0615 | D32: 丽山村 | E32: 23.5 | F32: 0 | G32: =E32-F32 -> 23.5
A33: 30 | B33: 邓可俊 | C33: 320124********3217 | D33: 丽山村 | E33: 28 | F33: 0 | G33: =E33-F33 -> 28
A34: 31 | B34: 南京市溧水区元生家庭农场 | C34: 92320117MA1NATFX91 | D34: 金湖村 | E34: 631 | F34: 0 | G34: =E34-F34 -> 631 | H34: 631
A35: 32 | B35: 南京财湖绿化园林有限公司 | C35: 91320117MA264BHKX5 | D35: 金湖村 | E35: 337 | F35: 0 | G35: =E35-F35 -> 337 | H35: 337
A36: 33 | B36: 南京珍丝农业科技发展有限公司 | C36: 91320117MA1X94762L | D36: 金湖村 | E36: 223 | F36: 0 | G36: =E36-F36 -> 223 | H36: 223
A37: 34 | B37: 蓝光武 | C37: 320124********0619 | D37: 金湖村 | E37: 62 | F37: 0 | G37: =E37-F37 -> 62 | H37: 62
A38: 35 | B38: 南京市溧水区宁乐家庭农场 | C38: 92320117MA1QT6DC8H | D38: 金湖村 | E38: 21 | F38: 0 | G38: =E38-F38 -> 21
A39: 36 | B39: 南京溧水依山傍水果蔬专业合作社 | C39: 93320117598000901N | D39: 金湖村 | E39: 25 | F39: 0 | G39: =E39-F39 -> 25
A40: 37 | B40: 南京金湖建筑安装工程有限公司 | C40: 913201177041959266 | D40: 金湖村 | E40: 12 | F40: 0 | G40: =E40-F40 -> 12
A41: 38 | B41: 李靖 | C41: 321324********6215 | D41: 金湖村 | E41: 415 | F41: 0 | G41: =E41-F41 -> 415 | H41: 415
A42: 39 | B42: 南京地龙非开挖工程技术有限公司 | C42: 9132010224999168X1 | D42: 金湖村 | E42: 141 | F42: 0 | G42: =E42-F42 -> 141 | H42: 141
A43: 40 | B43: 南京市长乐农业科技有限公司 | C43: 91320117053271381M | D43: 长乐村 | E43: 307.83 | F43: 0 | G43: =E43-F43 -> 307.83 | H43: 307.83
A44: 41 | B44: 周成合 | C44: 342222********6530 | D44: 长乐村 | E44: 41.99 | F44: 0 | G44: =E44-F44 -> 41.99 | H44: 41.99
A45: 42 | B45: 王永友 | C45: 341224********333X | D45: 长乐村 | E45: 533.34 | F45: 0 | G45: =E45-F45 -> 533.34 | H45: 533.34
A46: 43 | B46: 南京市溧水区新生家庭农场 | C46: 92320117MA1W96855B | D46: 长乐村 | E46: 13.22 | F46: 0 | G46: =E46-F46 -> 13.22
A47: 44 | B47: 丁正玲 | C47: 320124********1221 | D47: 长乐村 | E47: 1.53 | F47: 0 | G47: =E47-F47 -> 1.53
A48: 45 | B48: 李际 | C48: 320124********1233 | D48: 长乐村 | E48: 90.32 | F48: 0 | G48: =E48-F48 -> 90.32 | H48: 90.32
A49: 46 | B49: 刘道军 | C49: 320124********1213 | D49: 长乐村 | E49: 2.14 | F49: 0 | G49: =E49-F49 -> 2.14
A50: 47 | B50: 南京溧水勋成农机服务专业合作社 | C50: 93320117062608855P | D50: 东屏镇定湖村 | E50: 227.48 | F50: 0 | G50: =E50-F50 -> 227.48 | H50: 227.48
A51: 48 | B51: 陈友洪 | C51: 92320117MA1QMWJ168 | D51: 东屏镇定湖村 | E51: 734.22 | F51: 0 | G51: =E51-F51 -> 734.22 | H51: 734.22
A52: 49 | B52: 南京泰源农业科技有限公司 | C52: 91320117MA7EH1C71M | D52: 东屏镇定湖村 | E52: 322.67 | F52: 0 | G52: =E52-F52 -> 322.67 | H52: 322.67
A53: 50 | B53: 南京泽宁有机农业科技有限公司 | C53: 91320117MA1QEX5U6R | D53: 东屏爱民村 | E53: 703 | F53: 0 | G53: =E53-F53 -> 703 | H53: 703
A54: 51 | B54: 朱清源 | C54: 320104********0817 | D54: 东屏爱民村 | E54: 188 | F54: 0 | G54: =E54-F54 -> 188 | H54: 188
A55: 52 | B55: 戴信堂 | C55: 320124********1214 | D55: 东屏爱民村 | E55: 7.9 | F55: 0 | G55: =E55-F55 -> 7.9
A56: 53 | B56: 南京市溧水区南圩农业服务专业合作社 | C56: 93320117MA2533YW8W | D56: 东屏爱民村 | E56: 995 | F56: 0 | G56: =E56-F56 -> 995 | H56: 995
A57: 54 | B57: 王海彬 | C57: 320124********1219 | D57: 东屏爱民村 | E57: 320 | F57: 0 | G57: =E57-F57 -> 320 | H57: 320
A58: 55 | B58: 李良琴 | C58: 320124********1029 | D58: 东屏爱民村 | E58: 36 | F58: 0 | G58: =E58-F58 -> 36 | H58: 36
A59: 56 | B59: 南京市溧水区荣聚家庭农场 | C59: 92320117MA1R6J7961 | D59: 东屏爱民村 | E59: 43.5 | F59: 0 | G59: =E59-F59 -> 43.5 | H59: 43.5
A60: 57 | B60: 刘安兵 | C60: 320124********1211 | D60: 东屏爱民村 | E60: 10 | F60: 0 | G60: =E60-F60 -> 10
A61: 58 | B61: 南京市溧水徐源农业服务专业合作社 | C61: 93320117MA27K9CK01 | D61: 东屏徐溪村 | E61: 1020.99 | F61: 0 | G61: =E61-F61 -> 1020.99 | H61: 1020.99
A62: 59 | B62: 南京市春波高效农业科技农民专业合作社 | C62: 93320117MA7KU0MCXH | D62: 东屏徐溪村 | E62: 1230.92 | F62: 0 | G62: =E62-F62 -> 1230.92 | H62: 1230.92
A63: 60 | B63: 南京济丰农业科技有限公司 | C63: 91320117MABT24FQ3P | D63: 东屏徐溪村 | E63: 3864.83 | F63: 3864.83 | G63: =E63-F63 -> 0 | H63: 3864.83
A64: 61 | B64: 南京济丰农业科技有限公司 | C64: 91320117MABT24FQ3P | D64: 方便村 | E64: 135.44 | F64: 0 | G64: =E64-F64 -> 135.44 | H64: 135.44
A65: 小计 | E65: =SUM(E4:E64) -> 23665.18 | F65: =SUM(F4:F64) -> 3864.83 | G65: =SUM(G4:G64) -> 19800.35 | H65: =SUM(H4:H64) -> 23345.27

Sheet 离田收储
A1: 附表：2
A2: 溧水区2026年夏季麦秸秆实际离田收储作业情况表
A3: 镇街 | B3: 作业地点 | C3: 身份证号码/统一社会信用代码 | D3: 申报面积：亩 | E3: 确认面积：亩 | F3: 补助单价 | G3: 补助金额 | H3: 开户行 | I3: 银行账号、银行卡号或一折通号
A4: 一、 | B4: 作业单位
B5: 南京市溧水区金井秸秆专业合作社 | C5: 93320117MA1MWPGP8D | D5: 6160.65 | E5: 6139.08 | F5: 20元/亩 | G5: =E5*20 -> 122781.6 | H5: 江苏溧水农商行云鹤支行 | I5: 320124015101000031****
A6: 二、 | B6: 涉及的协作单位
A7: 永阳 | B7: 南京市源璟农业种植专业合作社 | C7: 93320117MADNTJP94K | D7: 1248 | E7: 1248
A8: 柘塘 | B8: 南京市溧水区天意农作物种植专业合作社 | C8: 933201173024210972 | D8: 1250 | E8: 1237.63
A9: 柘塘 | B9: 南京溧水力胜农机服务专业合作社 | C9: 93320117067060817X | D9: 130 | E9: 130
A10: 柘塘 | B10: 南京市溧水区立生家庭农场 | C10: 92320117MA1QWY0J5H | D10: 600 | E10: 590.8
A11: 东屏 | B11: 南京济丰农业科技有限公司 | C11: 91320117MABT24FQ3P | D11: 2932.65 | E11: 2932.65
A12: 合 计 | D12: =SUM(D7:D11) -> 6160.65 | E12: =SUM(E7:E11) -> 6139.08
